BEGIN:VCALENDAR
VERSION:2.0
PRODID:http://www.feuerwehr-winnenden.de
METHOD:PUBLISH
BEGIN:VEVENT
UID:7251@feuerwehr-winnenden.de
ORGANIZER;CN="Feuerwehr Winnenden":MAILTO:webmaster@feuerwehr-winnenden.de
CLASS:PUBLIC
DESCRIPTION;CHARSET=ISO-8859-1:Maibaum aufstellen
SUMMARY;CHARSET=ISO-8859-1:FW Maibaum aufstellen Abteilung Stadtmitte
DTSTART:20260430T153000
DTEND:20260430T193000
DTSTAMP:20260421T092222
LOCATION:Feuerwehrhaus Stadtmitte
BEGIN:VALARM
ACTION:AUDIO
TRIGGER;VALUE=DURATION:-PT1H
END:VALARM
END:VEVENT
END:VCALENDAR
