BEGIN:VCALENDAR
VERSION:2.0
PRODID:http://www.feuerwehr-winnenden.de
METHOD:PUBLISH
BEGIN:VEVENT
UID:7254@feuerwehr-winnenden.de
ORGANIZER;CN="Feuerwehr Winnenden":MAILTO:webmaster@feuerwehr-winnenden.de
CLASS:PUBLIC
DESCRIPTION;CHARSET=ISO-8859-1:Arbeitsdienst
SUMMARY;CHARSET=ISO-8859-1:FW Arbeitsdienst Abteilung Zipfelbach
DTSTART:20260502T170000
DTEND:20260502T210000
DTSTAMP:20260421T134836
LOCATION:Feuerwehrhaus Zipfelbach
BEGIN:VALARM
ACTION:AUDIO
TRIGGER;VALUE=DURATION:-PT1H
END:VALARM
END:VEVENT
END:VCALENDAR
