BEGIN:VCALENDAR
VERSION:2.0
PRODID:http://www.feuerwehr-winnenden.de
METHOD:PUBLISH
BEGIN:VEVENT
UID:7256@feuerwehr-winnenden.de
ORGANIZER;CN="Feuerwehr Winnenden":MAILTO:webmaster@feuerwehr-winnenden.de
CLASS:PUBLIC
DESCRIPTION;CHARSET=ISO-8859-1:Atemschutzpflicht
SUMMARY;CHARSET=ISO-8859-1:FW Atemschutzpflicht Zipfelbach 1. Zug
DTSTART:20260506T190000
DTEND:20260506T220000
DTSTAMP:20260421T134605
LOCATION:Feuerwehrhaus Zipfelbach
BEGIN:VALARM
ACTION:AUDIO
TRIGGER;VALUE=DURATION:-PT1H
END:VALARM
END:VEVENT
END:VCALENDAR
