BEGIN:VCALENDAR
VERSION:2.0
PRODID:http://www.feuerwehr-winnenden.de
METHOD:PUBLISH
BEGIN:VEVENT
UID:7267@feuerwehr-winnenden.de
ORGANIZER;CN="Feuerwehr Winnenden":MAILTO:webmaster@feuerwehr-winnenden.de
CLASS:PUBLIC
DESCRIPTION;CHARSET=ISO-8859-1:Sonderausbildung Grossfahrzeuge
SUMMARY;CHARSET=ISO-8859-1:FW Sonderausbildung Grossfahrzeuge Stadtmitte 2. Zug & Buchenbach 2. Zug & Zipfelbach Gruppe 2 & Zipfelbach Gruppe 4
DTSTART:20260523T180000
DTEND:20260523T210000
DTSTAMP:20260421T092317
LOCATION:jeweiliges Feuerwehrhaus
BEGIN:VALARM
ACTION:AUDIO
TRIGGER;VALUE=DURATION:-PT1H
END:VALARM
END:VEVENT
END:VCALENDAR
