BEGIN:VCALENDAR
VERSION:2.0
PRODID:http://www.feuerwehr-winnenden.de
METHOD:PUBLISH
BEGIN:VEVENT
UID:7271@feuerwehr-winnenden.de
ORGANIZER;CN="Feuerwehr Winnenden":MAILTO:webmaster@feuerwehr-winnenden.de
CLASS:PUBLIC
DESCRIPTION;CHARSET=ISO-8859-1:Atemschutzpflicht
SUMMARY;CHARSET=ISO-8859-1:FW Atemschutzpflicht Stadtmitte 2. Zug
DTSTART:20260610T190000
DTEND:20260610T220000
DTSTAMP:20260421T091944
LOCATION:Feuerwehrhaus Stadtmitte
BEGIN:VALARM
ACTION:AUDIO
TRIGGER;VALUE=DURATION:-PT1H
END:VALARM
END:VEVENT
END:VCALENDAR
