BEGIN:VCALENDAR
VERSION:2.0
PRODID:http://www.feuerwehr-winnenden.de
METHOD:PUBLISH
BEGIN:VEVENT
UID:7272@feuerwehr-winnenden.de
ORGANIZER;CN="Feuerwehr Winnenden":MAILTO:webmaster@feuerwehr-winnenden.de
CLASS:PUBLIC
DESCRIPTION;CHARSET=ISO-8859-1:Sonderausbildung Grossfahrzeuge
SUMMARY;CHARSET=ISO-8859-1:FW Sonderausbildung Grossfahrzeuge Stadtmitte 1. Zug & Buchenbach 1. Zug & Zipfelbach Gruppe 1 & Zipfelbach Gruppe 3
DTSTART:20260610T190000
DTEND:20260610T220000
DTSTAMP:20260423T103750
LOCATION:jeweiliges Feuerwehrhaus
BEGIN:VALARM
ACTION:AUDIO
TRIGGER;VALUE=DURATION:-PT1H
END:VALARM
END:VEVENT
END:VCALENDAR
