BEGIN:VCALENDAR
VERSION:2.0
PRODID:http://www.feuerwehr-winnenden.de
METHOD:PUBLISH
BEGIN:VEVENT
UID:7277@feuerwehr-winnenden.de
ORGANIZER;CN="Feuerwehr Winnenden":MAILTO:webmaster@feuerwehr-winnenden.de
CLASS:PUBLIC
DESCRIPTION;CHARSET=ISO-8859-1:Uebung
SUMMARY;CHARSET=ISO-8859-1:FW Uebung Buchenbach 1. Zug & Stadtmitte Gruppe 2 & Stadtmitte Gruppe 4 & Stadtmitte Gruppe 6
DTSTART:20260617T190000
DTEND:20260617T220000
DTSTAMP:20260421T122343
LOCATION:jeweiliges Feuerwehrhaus
BEGIN:VALARM
ACTION:AUDIO
TRIGGER;VALUE=DURATION:-PT1H
END:VALARM
END:VEVENT
END:VCALENDAR
