BEGIN:VCALENDAR
VERSION:2.0
PRODID:http://www.feuerwehr-winnenden.de
METHOD:PUBLISH
BEGIN:VEVENT
UID:7278@feuerwehr-winnenden.de
ORGANIZER;CN="Feuerwehr Winnenden":MAILTO:webmaster@feuerwehr-winnenden.de
CLASS:PUBLIC
DESCRIPTION;CHARSET=ISO-8859-1:Familienausflug Zipfelbach
SUMMARY;CHARSET=ISO-8859-1:FW Familienausflug Zipfelbach Abteilung Zipfelbach
DTSTART:20260620T080000
DTEND:20260621T180000
DTSTAMP:20260421T135010
LOCATION:Feuerwehrhaus Zipfelbach
BEGIN:VALARM
ACTION:AUDIO
TRIGGER;VALUE=DURATION:-PT1H
END:VALARM
END:VEVENT
END:VCALENDAR
