BEGIN:VCALENDAR
VERSION:2.0
PRODID:http://www.feuerwehr-winnenden.de
METHOD:PUBLISH
BEGIN:VEVENT
UID:7284@feuerwehr-winnenden.de
ORGANIZER;CN="Feuerwehr Winnenden":MAILTO:webmaster@feuerwehr-winnenden.de
CLASS:PUBLIC
DESCRIPTION;CHARSET=ISO-8859-1:Uebung
SUMMARY;CHARSET=ISO-8859-1:FW Uebung Buchenbach Gruppe 2 & Buchenbach Gruppe 4
DTSTART:20260627T180000
DTEND:20260627T210000
DTSTAMP:20260421T134800
LOCATION:Feuerwehrhaus Buchenbach
BEGIN:VALARM
ACTION:AUDIO
TRIGGER;VALUE=DURATION:-PT1H
END:VALARM
END:VEVENT
END:VCALENDAR
