BEGIN:VCALENDAR
VERSION:2.0
PRODID:http://www.feuerwehr-winnenden.de
METHOD:PUBLISH
BEGIN:VEVENT
UID:7302@feuerwehr-winnenden.de
ORGANIZER;CN="Feuerwehr Winnenden":MAILTO:webmaster@feuerwehr-winnenden.de
CLASS:PUBLIC
DESCRIPTION;CHARSET=ISO-8859-1:Uebung Gefahrstoffzug
SUMMARY;CHARSET=ISO-8859-1:FW Uebung Gefahrstoffzug Stadtmitte Gefahrgut-ZugZug
DTSTART:20260721T190000
DTEND:20260721T220000
DTSTAMP:20260421T134632
LOCATION:jeweiliges Feuerwehrhaus
BEGIN:VALARM
ACTION:AUDIO
TRIGGER;VALUE=DURATION:-PT1H
END:VALARM
END:VEVENT
END:VCALENDAR
