BEGIN:VCALENDAR
VERSION:2.0
PRODID:http://www.feuerwehr-winnenden.de
METHOD:PUBLISH
BEGIN:VEVENT
UID:7308@feuerwehr-winnenden.de
ORGANIZER;CN="Feuerwehr Winnenden":MAILTO:webmaster@feuerwehr-winnenden.de
CLASS:PUBLIC
DESCRIPTION;CHARSET=ISO-8859-1:City Treff
SUMMARY;CHARSET=ISO-8859-1:FW City Treff Abteilung Stadtmitte
DTSTART:20260727T100000
DTEND:20260728T000000
DTSTAMP:20260421T092155
LOCATION:Feuerwehrhaus Stadtmitte
BEGIN:VALARM
ACTION:AUDIO
TRIGGER;VALUE=DURATION:-PT1H
END:VALARM
END:VEVENT
END:VCALENDAR
