BEGIN:VCALENDAR
VERSION:2.0
PRODID:http://www.feuerwehr-winnenden.de
METHOD:PUBLISH
BEGIN:VEVENT
UID:7322@feuerwehr-winnenden.de
ORGANIZER;CN="Feuerwehr Winnenden":MAILTO:webmaster@feuerwehr-winnenden.de
CLASS:PUBLIC
DESCRIPTION;CHARSET=ISO-8859-1:Sonderausbildung Maschinisten
SUMMARY;CHARSET=ISO-8859-1:FW Sonderausbildung Maschinisten Stadtmitte 2. Zug & Buchenbach 1. Zug & Zipfelbach Gruppe 2 & Zipfelbach Gruppe 4
DTSTART:20260909T190000
DTEND:20260909T220000
DTSTAMP:20260421T091943
LOCATION:jeweiliges Feuerwehrhaus
BEGIN:VALARM
ACTION:AUDIO
TRIGGER;VALUE=DURATION:-PT1H
END:VALARM
END:VEVENT
END:VCALENDAR
