BEGIN:VCALENDAR
VERSION:2.0
PRODID:http://www.feuerwehr-winnenden.de
METHOD:PUBLISH
BEGIN:VEVENT
UID:7338@feuerwehr-winnenden.de
ORGANIZER;CN="Feuerwehr Winnenden":MAILTO:webmaster@feuerwehr-winnenden.de
CLASS:PUBLIC
DESCRIPTION;CHARSET=ISO-8859-1:Event Gesamtwehr
SUMMARY;CHARSET=ISO-8859-1:FW Event Gesamtwehr Gesamtfeuerwehr Winnenden & Stadtmitte Gefahrgut-ZugZug & &Uuml;50 Gruppe & Jugendfeuerwehr & Buchenbach Gruppe 4
DTSTART:20260926T100000
DTEND:20260926T180000
DTSTAMP:20260421T092109
LOCATION:jeweiliges Feuerwehrhaus
BEGIN:VALARM
ACTION:AUDIO
TRIGGER;VALUE=DURATION:-PT1H
END:VALARM
END:VEVENT
END:VCALENDAR
