BEGIN:VCALENDAR
VERSION:2.0
PRODID:http://www.feuerwehr-winnenden.de
METHOD:PUBLISH
BEGIN:VEVENT
UID:7348@feuerwehr-winnenden.de
ORGANIZER;CN="Feuerwehr Winnenden":MAILTO:webmaster@feuerwehr-winnenden.de
CLASS:PUBLIC
DESCRIPTION;CHARSET=ISO-8859-1:Ausflug Zug 1
SUMMARY;CHARSET=ISO-8859-1:FW Ausflug Zug 1 Buchenbach 1. Zug
DTSTART:20261009T080000
DTEND:20261011T180000
DTSTAMP:20260421T134431
LOCATION:Feuerwehrhaus Buchenbach
BEGIN:VALARM
ACTION:AUDIO
TRIGGER;VALUE=DURATION:-PT1H
END:VALARM
END:VEVENT
END:VCALENDAR
