BEGIN:VCALENDAR
VERSION:2.0
PRODID:http://www.feuerwehr-winnenden.de
METHOD:PUBLISH
BEGIN:VEVENT
UID:7350@feuerwehr-winnenden.de
ORGANIZER;CN="Feuerwehr Winnenden":MAILTO:webmaster@feuerwehr-winnenden.de
CLASS:PUBLIC
DESCRIPTION;CHARSET=ISO-8859-1:Gruppenuebung
SUMMARY;CHARSET=ISO-8859-1:FW Gruppenuebung Buchenbach Gruppe 3
DTSTART:20261010T180000
DTEND:20261010T210000
DTSTAMP:20260421T134558
LOCATION:Feuerwehrhaus Buchenbach
BEGIN:VALARM
ACTION:AUDIO
TRIGGER;VALUE=DURATION:-PT1H
END:VALARM
END:VEVENT
END:VCALENDAR
