BEGIN:VCALENDAR
VERSION:2.0
PRODID:http://www.feuerwehr-winnenden.de
METHOD:PUBLISH
BEGIN:VEVENT
UID:7356@feuerwehr-winnenden.de
ORGANIZER;CN="Feuerwehr Winnenden":MAILTO:webmaster@feuerwehr-winnenden.de
CLASS:PUBLIC
DESCRIPTION;CHARSET=ISO-8859-1:Sonderausbildung Hilfeleistung
SUMMARY;CHARSET=ISO-8859-1:FW Sonderausbildung Hilfeleistung Stadtmitte 1. Zug & Buchenbach Gruppe 2 & Buchenbach Gruppe 4
DTSTART:20261017T180000
DTEND:20261017T210000
DTSTAMP:20260421T122204
LOCATION:jeweiliges Feuerwehrhaus
BEGIN:VALARM
ACTION:AUDIO
TRIGGER;VALUE=DURATION:-PT1H
END:VALARM
END:VEVENT
END:VCALENDAR
