BEGIN:VCALENDAR
VERSION:2.0
PRODID:http://www.feuerwehr-winnenden.de
METHOD:PUBLISH
BEGIN:VEVENT
UID:7370@feuerwehr-winnenden.de
ORGANIZER;CN="Feuerwehr Winnenden":MAILTO:webmaster@feuerwehr-winnenden.de
CLASS:PUBLIC
DESCRIPTION;CHARSET=ISO-8859-1:Herbstevent
SUMMARY;CHARSET=ISO-8859-1:FW Herbstevent Abteilung Stadtmitte
DTSTART:20261107T180000
DTEND:20261107T210000
DTSTAMP:20260421T092044
LOCATION:Feuerwehrhaus Stadtmitte
BEGIN:VALARM
ACTION:AUDIO
TRIGGER;VALUE=DURATION:-PT1H
END:VALARM
END:VEVENT
END:VCALENDAR
