BEGIN:VCALENDAR
VERSION:2.0
PRODID:http://www.feuerwehr-winnenden.de
METHOD:PUBLISH
BEGIN:VEVENT
UID:7374@feuerwehr-winnenden.de
ORGANIZER;CN="Feuerwehr Winnenden":MAILTO:webmaster@feuerwehr-winnenden.de
CLASS:PUBLIC
DESCRIPTION;CHARSET=ISO-8859-1:Uebung
SUMMARY;CHARSET=ISO-8859-1:FW Uebung Stadtmitte Gruppe 1 & Stadtmitte Gruppe 4
DTSTART:20261111T190000
DTEND:20261111T220000
DTSTAMP:20260421T122217
LOCATION:Feuerwehrhaus Stadtmitte
BEGIN:VALARM
ACTION:AUDIO
TRIGGER;VALUE=DURATION:-PT1H
END:VALARM
END:VEVENT
END:VCALENDAR
