BEGIN:VCALENDAR
VERSION:2.0
PRODID:http://www.feuerwehr-winnenden.de
METHOD:PUBLISH
BEGIN:VEVENT
UID:7376@feuerwehr-winnenden.de
ORGANIZER;CN="Feuerwehr Winnenden":MAILTO:webmaster@feuerwehr-winnenden.de
CLASS:PUBLIC
DESCRIPTION;CHARSET=ISO-8859-1:Uebung
SUMMARY;CHARSET=ISO-8859-1:FW Uebung Buchenbach 1. Zug
DTSTART:20261113T190000
DTEND:20261113T220000
DTSTAMP:20260421T134727
LOCATION:Feuerwehrhaus Buchenbach
BEGIN:VALARM
ACTION:AUDIO
TRIGGER;VALUE=DURATION:-PT1H
END:VALARM
END:VEVENT
END:VCALENDAR
