BEGIN:VCALENDAR
VERSION:2.0
PRODID:http://www.feuerwehr-winnenden.de
METHOD:PUBLISH
BEGIN:VEVENT
UID:7383@feuerwehr-winnenden.de
ORGANIZER;CN="Feuerwehr Winnenden":MAILTO:webmaster@feuerwehr-winnenden.de
CLASS:PUBLIC
DESCRIPTION;CHARSET=ISO-8859-1:Abteilungsausschuss
SUMMARY;CHARSET=ISO-8859-1:FW Abteilungsausschuss Abteilung Zipfelbach
DTSTART:20261118T190000
DTEND:20261118T220000
DTSTAMP:20260421T135011
LOCATION:Feuerwehrhaus Zipfelbach
BEGIN:VALARM
ACTION:AUDIO
TRIGGER;VALUE=DURATION:-PT1H
END:VALARM
END:VEVENT
END:VCALENDAR
