BEGIN:VCALENDAR
VERSION:2.0
PRODID:http://www.feuerwehr-winnenden.de
METHOD:PUBLISH
BEGIN:VEVENT
UID:7392@feuerwehr-winnenden.de
ORGANIZER;CN="Feuerwehr Winnenden":MAILTO:webmaster@feuerwehr-winnenden.de
CLASS:PUBLIC
DESCRIPTION;CHARSET=ISO-8859-1:Uebung
SUMMARY;CHARSET=ISO-8859-1:FW Uebung Abteilung Zipfelbach
DTSTART:20261202T190000
DTEND:20261202T220000
DTSTAMP:20260421T134835
LOCATION:Feuerwehrhaus Zipfelbach
BEGIN:VALARM
ACTION:AUDIO
TRIGGER;VALUE=DURATION:-PT1H
END:VALARM
END:VEVENT
END:VCALENDAR
