BEGIN:VCALENDAR
VERSION:2.0
PRODID:http://www.feuerwehr-winnenden.de
METHOD:PUBLISH
BEGIN:VEVENT
UID:7394@feuerwehr-winnenden.de
ORGANIZER;CN="Feuerwehr Winnenden":MAILTO:webmaster@feuerwehr-winnenden.de
CLASS:PUBLIC
DESCRIPTION;CHARSET=ISO-8859-1:Dienstbesprechung
SUMMARY;CHARSET=ISO-8859-1:FW Dienstbesprechung Abteilung Buchenbach
DTSTART:20261203T190000
DTEND:20261203T220000
DTSTAMP:20260421T134800
LOCATION:Feuerwehrhaus Buchenbach
BEGIN:VALARM
ACTION:AUDIO
TRIGGER;VALUE=DURATION:-PT1H
END:VALARM
END:VEVENT
END:VCALENDAR
