BEGIN:VCALENDAR
VERSION:2.0
PRODID:http://www.feuerwehr-winnenden.de
METHOD:PUBLISH
BEGIN:VEVENT
UID:7397@feuerwehr-winnenden.de
ORGANIZER;CN="Feuerwehr Winnenden":MAILTO:webmaster@feuerwehr-winnenden.de
CLASS:PUBLIC
DESCRIPTION;CHARSET=ISO-8859-1:Nikolausfeier
SUMMARY;CHARSET=ISO-8859-1:FW Nikolausfeier Gesamtfeuerwehr Winnenden & Stadtmitte Gefahrgut-ZugZug & &Uuml;50 Gruppe & Buchenbach Gruppe 4
DTSTART:20261206T160000
DTEND:20261206T180000
DTSTAMP:20260421T091925
LOCATION:jeweiliges Feuerwehrhaus
BEGIN:VALARM
ACTION:AUDIO
TRIGGER;VALUE=DURATION:-PT1H
END:VALARM
END:VEVENT
END:VCALENDAR
