BEGIN:VCALENDAR
VERSION:2.0
PRODID:http://www.feuerwehr-winnenden.de
METHOD:PUBLISH
BEGIN:VEVENT
UID:7402@feuerwehr-winnenden.de
ORGANIZER;CN="Feuerwehr Winnenden":MAILTO:webmaster@feuerwehr-winnenden.de
CLASS:PUBLIC
DESCRIPTION;CHARSET=ISO-8859-1:Weiterbildung Fuehrungskraefte
SUMMARY;CHARSET=ISO-8859-1:FW Weiterbildung Fuehrungskraefte Gesamtfeuerwehr Winnenden
DTSTART:20261216T190000
DTEND:20261216T220000
DTSTAMP:20260421T092155
LOCATION:jeweiliges Feuerwehrhaus
BEGIN:VALARM
ACTION:AUDIO
TRIGGER;VALUE=DURATION:-PT1H
END:VALARM
END:VEVENT
END:VCALENDAR
