BEGIN:VCALENDAR
VERSION:2.0
PRODID:http://www.feuerwehr-winnenden.de
METHOD:PUBLISH
BEGIN:VEVENT
UID:7404@feuerwehr-winnenden.de
ORGANIZER;CN="Feuerwehr Winnenden":MAILTO:webmaster@feuerwehr-winnenden.de
CLASS:PUBLIC
DESCRIPTION;CHARSET=ISO-8859-1:Schulungsabend
SUMMARY;CHARSET=ISO-8859-1:FW Schulungsabend Abteilung Stadtmitte & Abteilung Zipfelbach
DTSTART:20261219T180000
DTEND:20261219T210000
DTSTAMP:20260421T091958
LOCATION:jeweiliges Feuerwehrhaus
BEGIN:VALARM
ACTION:AUDIO
TRIGGER;VALUE=DURATION:-PT1H
END:VALARM
END:VEVENT
END:VCALENDAR
